BEGIN:VCALENDAR
VERSION:2.0
PRODID:-//sub.vitry94.fr//NONSGML v1.0//FR
BEGIN:VEVENT
UID:69e78a56085b2@sub.vitry94.fr
DTSTAMP:20260421T143150Z
DTSTART:20260627T180000Z
DTEND:20260627T203000Z
SUMMARY:FESTIVAL DES ANGES présente « SYAM ROSE »
END:VEVENT
END:VCALENDAR
