BEGIN:VCALENDAR
VERSION:2.0
PRODID:-//sub.vitry94.fr//NONSGML v1.0//FR
BEGIN:VEVENT
UID:69e77733a573e@sub.vitry94.fr
DTSTAMP:20260421T131011Z
DTSTART:20260626T180000Z
DTEND:20260626T203000Z
SUMMARY:FESTIVAL DES ANGES présente « Jean-Jacques B »
END:VEVENT
END:VCALENDAR
