BEGIN:VCALENDAR
VERSION:2.0
PRODID:-//sub.vitry94.fr//NONSGML v1.0//FR
BEGIN:VEVENT
UID:69e762e1cabaa@sub.vitry94.fr
DTSTAMP:20260421T114329Z
DTSTART:20260613T180000Z
DTEND:20260613T203000Z
SUMMARY:DA GAIMCHG3R &#8211; (Central Cartel) West Coast
END:VEVENT
END:VCALENDAR
