BEGIN:VCALENDAR
VERSION:2.0
PRODID:-//sub.vitry94.fr//NONSGML v1.0//FR
BEGIN:VEVENT
UID:69e74b6105194@sub.vitry94.fr
DTSTAMP:20260421T100313Z
DTSTART:20260612T180000Z
DTEND:20260612T203000Z
SUMMARY:FESTIVAL DES ANGES présente « OLOVE »
END:VEVENT
END:VCALENDAR
